BEGIN:VCALENDAR
VERSION:2.0
PRODID:-//Afet Dayanışma Ağı - ECPv6.15.20//NONSGML v1.0//EN
CALSCALE:GREGORIAN
METHOD:PUBLISH
X-WR-CALNAME:Afet Dayanışma Ağı
X-ORIGINAL-URL:https://afetdayanismaagi.org
X-WR-CALDESC:Afet Dayanışma Ağı için etkinlikler
REFRESH-INTERVAL;VALUE=DURATION:PT1H
X-Robots-Tag:noindex
X-PUBLISHED-TTL:PT1H
BEGIN:VTIMEZONE
TZID:UTC
BEGIN:STANDARD
TZOFFSETFROM:+0000
TZOFFSETTO:+0000
TZNAME:UTC
DTSTART:20230101T000000
END:STANDARD
END:VTIMEZONE
BEGIN:VEVENT
DTSTART;TZID=UTC:20241203T203000
DTEND;TZID=UTC:20241203T223000
DTSTAMP:20260425T104502
CREATED:20241201T082447Z
LAST-MODIFIED:20241201T082447Z
UID:21049-1733257800-1733265000@afetdayanismaagi.org
SUMMARY:Daha Kapsayıcı Bir Dünya İnşa Etmek
DESCRIPTION:Engelli olmak bir engel değildir.Sadece aşılması gereken bir düşüncedir. Önemli olan kalbimizin engelli olmamasıdır. Zira bizi insan yapan kolumuz\, bacağımız değil KALBİMİZDİR. Seminerimizde engelli yurttaşlarımızın sorunlarının bir an önce çözülmesi \, toplum yaşamındaki yerlerini engelsiz bir şekilde alabilmeleri için çözüm yollarının neler olduğunu ve sorumlu kurumları sorumluluklarını hatırlatacağız. Duyarlı bütün yurttaşlarımızı bekliyoruz.
URL:https://afetdayanismaagi.org/etkinlik/daha-kapsayici-bir-dunya-insa-etmek/
CATEGORIES:Seminars
ATTACH;FMTTYPE=image/jpeg:https://afetdayanismaagi.org/wp-content/uploads/2024/12/engelliler-gunu-gorsel.jpeg
ORGANIZER;CN="Afet Dayan%C4%B1%C5%9Fma A%C4%9F%C4%B1":MAILTO:info@afetdayanismaagi.org
END:VEVENT
END:VCALENDAR