BEGIN:VCALENDAR
VERSION:2.0
PRODID:-//Afet Dayanışma Ağı - ECPv6.15.20//NONSGML v1.0//EN
CALSCALE:GREGORIAN
METHOD:PUBLISH
X-WR-CALNAME:Afet Dayanışma Ağı
X-ORIGINAL-URL:https://afetdayanismaagi.org
X-WR-CALDESC:Afet Dayanışma Ağı için etkinlikler
REFRESH-INTERVAL;VALUE=DURATION:PT1H
X-Robots-Tag:noindex
X-PUBLISHED-TTL:PT1H
BEGIN:VTIMEZONE
TZID:UTC
BEGIN:STANDARD
TZOFFSETFROM:+0000
TZOFFSETTO:+0000
TZNAME:UTC
DTSTART:20230101T000000
END:STANDARD
END:VTIMEZONE
BEGIN:VEVENT
DTSTART;TZID=UTC:20241219T203000
DTEND;TZID=UTC:20241219T223000
DTSTAMP:20260425T104457
CREATED:20241218T183451Z
LAST-MODIFIED:20241218T183451Z
UID:21053-1734640200-1734647400@afetdayanismaagi.org
SUMMARY:Afetlerde de Özel Gereksinimlilerin Yanındayız
DESCRIPTION:2024 yılının son seminerinde çok özel bir konu ve çok özel bir konukla birlikteyiz yine. Değerli sinema sanatçısı ve afet gönüllülüğü alanında faaliyet gösteren Arama Kurtarma Eğitim Derneği ARKED’in temsilcisi OGÜN KAPTANOĞLU ile birlikte Özel Gereksinimli Bireylerin ve yakınlarının afet öncesi bilinçlenme çalışmaları\, kurtarma faaliyetleri sırasında karşılaştıkları iletişim zorlukları ve afet sonrasında yaşam alanlarında maruz kaldıkları koşullar ve afet yönetimi içerisinde bu bireylerin konumlandırılmaları gibi pek çok konu başlığını konuşmaya çalışacağız.
URL:https://afetdayanismaagi.org/etkinlik/afetlerde-de-ozel-gereksinimlilerin-yanindayiz/
CATEGORIES:Seminars
ATTACH;FMTTYPE=image/jpeg:https://afetdayanismaagi.org/wp-content/uploads/2024/12/e4a6f032-4063-4a77-b57d-9c062bf4d32f.jpg
ORGANIZER;CN="Afet Dayan%C4%B1%C5%9Fma A%C4%9F%C4%B1":MAILTO:info@afetdayanismaagi.org
END:VEVENT
END:VCALENDAR