BEGIN:VCALENDAR
VERSION:2.0
PRODID:-//Afet Dayanışma Ağı - ECPv6.15.20//NONSGML v1.0//EN
CALSCALE:GREGORIAN
METHOD:PUBLISH
X-ORIGINAL-URL:https://afetdayanismaagi.org
X-WR-CALDESC:Afet Dayanışma Ağı için etkinlikler
REFRESH-INTERVAL;VALUE=DURATION:PT1H
X-Robots-Tag:noindex
X-PUBLISHED-TTL:PT1H
BEGIN:VTIMEZONE
TZID:UTC
BEGIN:STANDARD
TZOFFSETFROM:+0000
TZOFFSETTO:+0000
TZNAME:UTC
DTSTART:20250101T000000
END:STANDARD
END:VTIMEZONE
BEGIN:VEVENT
DTSTART;TZID=UTC:20260302T203000
DTEND;TZID=UTC:20260302T223000
DTSTAMP:20260424T045924
CREATED:20260226T190709Z
LAST-MODIFIED:20260226T191219Z
UID:21117-1772483400-1772490600@afetdayanismaagi.org
SUMMARY:KIRILMADAN BÜKÜLMEK
DESCRIPTION:Afetler… krizler… belirsizlikler…\nHayatın bir anında hepimizin kapısını çalabiliyor.\nBiz ADA ekipleri olarak sahada fiziksel güvenliği konuşuyoruz\, planlamayı konuşuyoruz\, koordinasyonu konuşuyoruz.\nAma bir soru var ki en az bunlar kadar önemli:\nZihnimiz ne durumda?\nÇünkü afet sadece binaları yıkmaz.\nSadece yolları kapatmaz.\nSadece sistemleri bozmaz.\nAfet\, insanın iç dengesini de sarsar.\nVe belki de en kritik soru şudur:\nSarsıldığımızda nasıl yeniden dengede kalırız? \nBu seminerimizde şu sorulara cevap arayacağız.\n●Zor anlarda zihnimiz nasıl çalışır?\n●Panik neden bulaşıcıdır?\n●Dayanıklılık doğuştan mı gelir\, yoksa öğrenilebilir mi?\nVe en önemlisi…\n●Kendimizi nasıl koruruz? \nBirlikte güçlenmek icin bütün herkesi oturumumuza bekliyoruz… \nKatılım linki;\nhttps://meet.google.com/xwz-tvkg-epy \nAfet Dayanışma Ağı
URL:https://afetdayanismaagi.org/etkinlik/kirilmadan-bukulmek/
LOCATION:Google Meet
ATTACH;FMTTYPE=image/jpeg:https://afetdayanismaagi.org/wp-content/uploads/2026/02/NERMIN-SARIBAS.jpeg
ORGANIZER;CN="Afet Dayan%C4%B1%C5%9Fma A%C4%9F%C4%B1":MAILTO:info@afetdayanismaagi.org
END:VEVENT
END:VCALENDAR