BEGIN:VCALENDAR
VERSION:2.0
PRODID:-//Afet Dayanışma Ağı - ECPv6.15.20//NONSGML v1.0//EN
CALSCALE:GREGORIAN
METHOD:PUBLISH
X-ORIGINAL-URL:https://afetdayanismaagi.org
X-WR-CALDESC:Afet Dayanışma Ağı için etkinlikler
REFRESH-INTERVAL;VALUE=DURATION:PT1H
X-Robots-Tag:noindex
X-PUBLISHED-TTL:PT1H
BEGIN:VTIMEZONE
TZID:UTC
BEGIN:STANDARD
TZOFFSETFROM:+0000
TZOFFSETTO:+0000
TZNAME:UTC
DTSTART:20230101T000000
END:STANDARD
END:VTIMEZONE
BEGIN:VEVENT
DTSTART;VALUE=DATE:20241002
DTEND;VALUE=DATE:20241005
DTSTAMP:20260425T122454
CREATED:20241001T195048Z
LAST-MODIFIED:20241001T195213Z
UID:20967-1727827200-1728086399@afetdayanismaagi.org
SUMMARY:Afet Yönetimi Fuarı Ve Zirvesi
DESCRIPTION:AFET DAYANIŞMA AĞI NADMEX 2024’te! \nSalon 9\nStant 9A22 de yerimizi alıyoruz. \n2-4 Ekim tarihleri arasında İstanbul Fuar Merkezi’nde düzenlenecek olan NADMEX – Afet Yönetimi Fuarı ve Zirvesi’nde\, AFET DAYANIŞMA AĞI olarak biz de standımızla yer alacağız. Afet yönetimi konusunda Afet Bilinci tecrübelerimizi paylaşmak\, hayat kurtaran bilgiler ve uygulamalar sunmak için siz değerli gönüllülerimizi ve halkımızı standımıza bekliyoruz.\nBirlikte güçlü bir ağ oluşturarak\, olası afetlere karşı hazırlıklı olmak için adımlar atıyoruz. Sizi de bu büyük organizasyonda aramızda görmekten mutluluk duyarız. Ücretsiz giriş ve ADA GÖNÜLLÜSÜ istatistiginin belirlenmesi için aşağıdaki linkten bütün gönüllülerimizin kayıt olmalarını önemle rica ediyoruz.(Şehir farketmeksizin) \nFormdaki firma adına AFET DAYANIŞMA AĞI \,ünvanınız kısmına \, ADA GÖNÜLLÜSÜ yazılması önemlidir. \nBu sayımızın da belli olmasını sağlayacaktır. \nhttps://onlinebilet.tgexpo.com/tr/nadmex-stk  \n#AfetDayanışmaAgı #NADMEX2024\n#AfetYönetimi\n#AfetHazırlığı\n#Gönüllülük\n#ilkmüdahaleekipleri\n#YerelAfetGönüllüsü
URL:https://afetdayanismaagi.org/etkinlik/afet-yonetimi-fuari-ve-zirvesi/
LOCATION:İstanbul Fuar Merkezi\, Yeşilköy Istanbul\, Fuar Merkezi\, 34149 Bakırköy\, İstanbul\, Turkey
CATEGORIES:Etkinlik
ATTACH;FMTTYPE=image/jpeg:https://afetdayanismaagi.org/wp-content/uploads/2024/10/WhatsApp-Image-2024-10-01-at-20.05.55-1.jpeg
END:VEVENT
BEGIN:VEVENT
DTSTART;TZID=UTC:20241026T190000
DTEND;TZID=UTC:20241026T210000
DTSTAMP:20260425T122454
CREATED:20241020T104553Z
LAST-MODIFIED:20241020T104553Z
UID:21008-1729969200-1729976400@afetdayanismaagi.org
SUMMARY:Hacı Bektaş Veli Anadolu Kültür Vakfı Çekmeköy Cemevi TAB semineri
DESCRIPTION:Değerli Canlar \nÜlkemiz aktif fay hatları üzerinde bulunan bir deprem ülkesidir. Geçmiş yıllarda hazırlıksız olmanın bedelini maalese acı tecrübelerle yaşadık .Çekmeköy Cemevi ve Afet Dayanışma Ağı ile beraber ortaklaşa #temelafetbilinci adı altında yapacağımız seminerimize tüm halkımız davetlidir. \n26 Ekim 2026 Cumartesi günü\nSaat : 19:00’da\nYer : Çekmeköy Cemevi \nHacı Bektaş Veli Anadolu Kültür Vakfı\nÇekmeköy Cemevi
URL:https://afetdayanismaagi.org/etkinlik/haci-bektas-veli-anadolu-kultur-vakfi-cekmekoy-cemevi-tab-semineri/
LOCATION:Hacı Bektaş Veli Anadolu Kültür Vakfı Çekmeköy Cemevi\, Mimar sinan mah.Ulubatlı Hasan cad. no;81 çekmeköy\, istanbul\, Turkey
CATEGORIES:Seminars
ATTACH;FMTTYPE=image/jpeg:https://afetdayanismaagi.org/wp-content/uploads/2024/10/cekmekoy-1.jpeg
ORGANIZER;CN="Afet Dayan%C4%B1%C5%9Fma A%C4%9F%C4%B1":MAILTO:info@afetdayanismaagi.org
END:VEVENT
END:VCALENDAR