BEGIN:VCALENDAR
VERSION:2.0
PRODID:-//Afet Dayanışma Ağı - ECPv6.15.20//NONSGML v1.0//EN
CALSCALE:GREGORIAN
METHOD:PUBLISH
X-WR-CALNAME:Afet Dayanışma Ağı
X-ORIGINAL-URL:https://afetdayanismaagi.org
X-WR-CALDESC:Afet Dayanışma Ağı için etkinlikler
REFRESH-INTERVAL;VALUE=DURATION:PT1H
X-Robots-Tag:noindex
X-PUBLISHED-TTL:PT1H
BEGIN:VTIMEZONE
TZID:UTC
BEGIN:STANDARD
TZOFFSETFROM:+0000
TZOFFSETTO:+0000
TZNAME:UTC
DTSTART:20240101T000000
END:STANDARD
END:VTIMEZONE
BEGIN:VEVENT
DTSTART;TZID=UTC:20250320T203000
DTEND;TZID=UTC:20250320T223000
DTSTAMP:20260425T034324
CREATED:20250320T171029Z
LAST-MODIFIED:20250320T171029Z
UID:21077-1742502600-1742509800@afetdayanismaagi.org
SUMMARY:FAYDAN GELEN FAYDA
DESCRIPTION:ADA SEMİNERLERİ DEVAM EDİYOR … \n20 Mart 2025 Perşembe akşamı saat 20.30 da Jeoloji Yüksek Mühendisi Dr.ALPER ŞENGÜL’ü konuk edeceğiz.\nDeprem gerçeğini çok farklı bakış açısıyla ele alacağımız oturumumuzda depremlerin aslında bereketli toprakların oluşmasına nasıl katkı sunduğunu\, ülkenin dogal zenginliklerinin depremlerle nasıl bağlantılı olduklarını konuşacağız …Ve daha bir çok konu başlığı…Herkesi bekliyoruz.. \nhttps://meet.google.com/wso-qsgk-tyb
URL:https://afetdayanismaagi.org/etkinlik/faydan-gelen-fayda/
LOCATION:Google Meet
CATEGORIES:Seminars
ATTACH;FMTTYPE=image/jpeg:https://afetdayanismaagi.org/wp-content/uploads/2025/03/alper-sengul-e1742490584672.jpeg
ORGANIZER;CN="Afet Dayan%C4%B1%C5%9Fma A%C4%9F%C4%B1":MAILTO:info@afetdayanismaagi.org
END:VEVENT
BEGIN:VEVENT
DTSTART;TZID=UTC:20250327T203000
DTEND;TZID=UTC:20250327T220000
DTSTAMP:20260425T034324
CREATED:20250326T172843Z
LAST-MODIFIED:20250326T172843Z
UID:21085-1743107400-1743112800@afetdayanismaagi.org
SUMMARY:PSİKOLOJİK İLK YARDIM
DESCRIPTION:AFET DAYANIŞMA AĞI SEMİNERLERİ DEVAM EDİYOR… \n27 Mart 2025 Perşembe akşamı saat 21.00 de Psikolojik Danışman BURÇİN USLU’nun konuk olarak katılacağı seminerimizde PSİKOLOJİK İLK YARDIM konusunu ele alacağız.\nPsikolojik ilk yardım\, toplumun büyük bölümünü etkileyen olaylar başta olmak üzere etkilenen bireylerin en temel bedensel ve ruhsal gereksinimlerinin tespit edilerek giderilmesini hedeflemektedir.\nAfetzedelerin günlük yaşamlarına dönebilmeleri ve ilerleyen yaşamlarında karşılaşabilecekleri yeni olumsuz durumlarla başedebilme stratejileri geliştirmelerinde psikolojik ilk yardımın önemini konuşacağız. \nDavetlisiniz!
URL:https://afetdayanismaagi.org/etkinlik/psikolojik-ilk-yardim/
CATEGORIES:Seminars
ATTACH;FMTTYPE=image/jpeg:https://afetdayanismaagi.org/wp-content/uploads/2025/03/burcin-uslu-afis.jpeg
ORGANIZER;CN="Afet Dayan%C4%B1%C5%9Fma A%C4%9F%C4%B1":MAILTO:info@afetdayanismaagi.org
END:VEVENT
END:VCALENDAR