BEGIN:VCALENDAR
VERSION:2.0
PRODID:-//Afet Dayanışma Ağı - ECPv6.15.20//NONSGML v1.0//EN
CALSCALE:GREGORIAN
METHOD:PUBLISH
X-ORIGINAL-URL:https://afetdayanismaagi.org
X-WR-CALDESC:Afet Dayanışma Ağı için etkinlikler
REFRESH-INTERVAL;VALUE=DURATION:PT1H
X-Robots-Tag:noindex
X-PUBLISHED-TTL:PT1H
BEGIN:VTIMEZONE
TZID:UTC
BEGIN:STANDARD
TZOFFSETFROM:+0000
TZOFFSETTO:+0000
TZNAME:UTC
DTSTART:20240101T000000
END:STANDARD
END:VTIMEZONE
BEGIN:VEVENT
DTSTART;TZID=UTC:20250918T210000
DTEND;TZID=UTC:20250918T220000
DTSTAMP:20260424T154105
CREATED:20250917T151003Z
LAST-MODIFIED:20250917T151807Z
UID:21091-1758229200-1758232800@afetdayanismaagi.org
SUMMARY:Afet Dayanışma Ağı 8. Dönem Afet Gönüllüsü Eğitimleri Başlıyor!
DESCRIPTION:📢 ÇAĞRI: \nAfet Dayanışma Ağı 8. Dönem Afet Gönüllüsü Eğitimleri Başlıyor! \nAfetlere karşı dayanışmayı büyütmek\, toplumun birlikte hareket edebilme kapasitesini artırmak ve olası kriz anlarında doğru müdahaleleri yapabilmek için Afet Dayanışma Ağı olarak gönüllü eğitimlerimizin 8. dönemine başlıyoruz. \n🗓 Tanışma Oturumu: 18 Eylül 2025 \nTanışma oturumu Google Meet katılım linki için buraya tıklayınız. \nEğitim Başlangıcı; 21 Eylül 2025 \n📍 Çevrimiçi oturumlar ve yüz yüze uygulama eğitimleri \nBu eğitimlerde; \nAfetlere Hazırlık Ve Risk Azaltma\,\nTemel Arama Kurtarma\nTemel İlk Yardım ve Afet İlk Yardımı\,\nTemel Yangın\nAfet Psikolojisi\nAfet Haberleşmesi\nIkaz Alarm Sistemleri\nAfet Etiği\nİpler ve Düğümler\nUygulama \ngibi başlıklarda kapsamlı içeriklerle buluşacağız. \n💡 Afet anında bilinçli\, organize ve dayanışmacı bir topluluk olabilmek için senin katkına ihtiyacımız var!\nBirlikte öğrenelim\, birlikte güçlenelim. \n👉 Katılım için başvuru formu için buraya tıklayınız. \n#AfetDayanışmaAğı #AfetGönüllüsü #DayanışmaylaGüçlüyüz\n#ilkmüdahaleciler\n#afetbilinci\n#afetehazırtoplum
URL:https://afetdayanismaagi.org/etkinlik/afet-dayanisma-agi-8-donem-afet-gonullusu-egitimleri-basliyor/
LOCATION:Google Meet
CATEGORIES:Eğitim
ATTACH;FMTTYPE=image/jpeg:https://afetdayanismaagi.org/wp-content/uploads/2025/09/WhatsApp-Image-2025-09-17-at-10.47.15.jpeg
ORGANIZER;CN="Afet Dayan%C4%B1%C5%9Fma A%C4%9F%C4%B1":MAILTO:info@afetdayanismaagi.org
END:VEVENT
BEGIN:VEVENT
DTSTART;TZID=UTC:20250921T210000
DTEND;TZID=UTC:20250921T230000
DTSTAMP:20260424T154105
CREATED:20250917T152051Z
LAST-MODIFIED:20250917T152253Z
UID:21099-1758488400-1758495600@afetdayanismaagi.org
SUMMARY:Afet Dayanışma Ağı 8. Dönem Afet Gönüllüsü Eğitimleri Başlıyor!
DESCRIPTION:📢 ÇAĞRI: \nAfet Dayanışma Ağı 8. Dönem Afet Gönüllüsü Eğitimleri Başlıyor! \nAfetlere karşı dayanışmayı büyütmek\, toplumun birlikte hareket edebilme kapasitesini artırmak ve olası kriz anlarında doğru müdahaleleri yapabilmek için Afet Dayanışma Ağı olarak gönüllü eğitimlerimizin 8. dönemine başlıyoruz. \n🗓 Tanışma Oturumu: 18 Eylül 2025 \nTanışma oturumu Google Meet katılım linki için buraya tıklayınız. \nEğitim Başlangıcı; 21 Eylül 2025 \n📍 Çevrimiçi oturumlar ve yüz yüze uygulama eğitimleri \nBu eğitimlerde; \nAfetlere Hazırlık Ve Risk Azaltma\,\nTemel Arama Kurtarma\nTemel İlk Yardım ve Afet İlk Yardımı\,\nTemel Yangın\nAfet Psikolojisi\nAfet Haberleşmesi\nIkaz Alarm Sistemleri\nAfet Etiği\nİpler ve Düğümler\nUygulama \ngibi başlıklarda kapsamlı içeriklerle buluşacağız. \n💡 Afet anında bilinçli\, organize ve dayanışmacı bir topluluk olabilmek için senin katkına ihtiyacımız var!\nBirlikte öğrenelim\, birlikte güçlenelim. \n👉 Katılım için başvuru formu için buraya tıklayınız. \n#AfetDayanışmaAğı #AfetGönüllüsü #DayanışmaylaGüçlüyüz\n#ilkmüdahaleciler\n#afetbilinci\n#afetehazırtoplum
URL:https://afetdayanismaagi.org/etkinlik/afet-dayanisma-agi-8-donem-afet-gonullusu-egitimleri-basliyor-2/
LOCATION:Google Meet
CATEGORIES:Eğitim
ATTACH;FMTTYPE=image/jpeg:https://afetdayanismaagi.org/wp-content/uploads/2025/09/WhatsApp-Image-2025-09-17-at-10.49.05-1.jpeg
ORGANIZER;CN="Afet Dayan%C4%B1%C5%9Fma A%C4%9F%C4%B1":MAILTO:info@afetdayanismaagi.org
END:VEVENT
END:VCALENDAR