BEGIN:VCALENDAR
VERSION:2.0
PRODID:-//Afet Dayanışma Ağı - ECPv6.15.20//NONSGML v1.0//EN
CALSCALE:GREGORIAN
METHOD:PUBLISH
X-ORIGINAL-URL:https://afetdayanismaagi.org
X-WR-CALDESC:Afet Dayanışma Ağı için etkinlikler
REFRESH-INTERVAL;VALUE=DURATION:PT1H
X-Robots-Tag:noindex
X-PUBLISHED-TTL:PT1H
BEGIN:VTIMEZONE
TZID:UTC
BEGIN:STANDARD
TZOFFSETFROM:+0000
TZOFFSETTO:+0000
TZNAME:UTC
DTSTART:20250101T000000
END:STANDARD
END:VTIMEZONE
BEGIN:VEVENT
DTSTART;TZID=UTC:20260201T203000
DTEND;TZID=UTC:20260201T223000
DTSTAMP:20260424T045924
CREATED:20260128T202535Z
LAST-MODIFIED:20260128T202535Z
UID:21110-1769977800-1769985000@afetdayanismaagi.org
SUMMARY:ADA 9.DÖNEM TANIŞMA VE GENEL ÜYE TOPLANTISI
DESCRIPTION:Afetler kapımızı çalmadan önce tanışmak\, konuşmak ve birlikte güçlenmek mümkün.\nADA olarak biz; bilgiyi\, deneyimi ve dayanışmayı aynı çatı altında buluşturan bir yerel gönüllülük ağıyız. \nEğer “Ben de bu ağın bir parçası olmak istiyorum”\,\n“Afetlere karşı daha hazırlıklı bir mahalle mümkün” diyorsan\,\nbu buluşma tam sana göre. \nTanımak\, anlamak ve birlikte yol almak için seni de aramızda görmek istiyoruz.\nDayanışma\, tanışarak başlar. 🤝 \nADA KOORDİNASYON
URL:https://afetdayanismaagi.org/etkinlik/ada-9-donem-tanisma-ve-genel-uye-toplantisi/
LOCATION:Google Meet
ATTACH;FMTTYPE=image/jpeg:https://afetdayanismaagi.org/wp-content/uploads/2026/01/WhatsApp-Image-2026-01-26-at-12.05.08.jpeg
ORGANIZER;CN="Afet Dayan%C4%B1%C5%9Fma A%C4%9F%C4%B1":MAILTO:info@afetdayanismaagi.org
END:VEVENT
END:VCALENDAR