BEGIN:VCALENDAR
VERSION:2.0
PRODID:-//Afet Dayanışma Ağı - ECPv6.15.20//NONSGML v1.0//EN
CALSCALE:GREGORIAN
METHOD:PUBLISH
X-ORIGINAL-URL:https://afetdayanismaagi.org
X-WR-CALDESC:Afet Dayanışma Ağı için etkinlikler
REFRESH-INTERVAL;VALUE=DURATION:PT1H
X-Robots-Tag:noindex
X-PUBLISHED-TTL:PT1H
BEGIN:VTIMEZONE
TZID:UTC
BEGIN:STANDARD
TZOFFSETFROM:+0000
TZOFFSETTO:+0000
TZNAME:UTC
DTSTART:20240101T000000
END:STANDARD
END:VTIMEZONE
BEGIN:VEVENT
DTSTART;TZID=UTC:20250202T153000
DTEND;TZID=UTC:20250202T173000
DTSTAMP:20260425T034417
CREATED:20250125T093153Z
LAST-MODIFIED:20250125T093153Z
UID:21067-1738510200-1738517400@afetdayanismaagi.org
SUMMARY:AFETLERDE ÖZEL GEREKSİNİMLİ BİREYLERLE DOĞRU İLETİŞİM
DESCRIPTION:DAVETLİSİNİZ! \nAfetler\, meydana geldikleri bölgedeki tüm bireyleri olumsuz etkilese de özel gereksinimli bireylerin âfetlere karşı daha savunmasız olduğu bilinmektedir.Bir afet durumu ortaya çıktığında özel gereksinimli bireylerin yaşadığı güçlüklerin başlıcaları; tahliye yollarına ulaşamama\, yaklaşan tehlikeleri anlayamama\, ihtiyaçlarını bildirmede güçlük yaşama\, kurtarma çağrılarına yanıt verememe olarak gösterilebilir. \nZihin yetersizliği olan ve otizmli bireyler\,yardım etmek isteyen yabancı kişiler ve kurtarma ekibini reddedebilir\, agresif davranışlar sergileyebilirler. İşitme yetersizliği olan bireyler\, acil durum anlarında haber almada ve iletişim kurmada büyük zorluklar yaşamaktadırlar.Bu nedenle kurtarma çağrılarına da yanıt veremeyebilirler. \nFiziksel yetersizliği olan bireyler\, tahliyede güçlük yaşamakta ve âfet anında geride bırakılma olasılıkları daha fazladır. \nGörme yetersizliği olan bireylerin\, ortamdaki yapısal hasarlar ve enkazlardan kaynaklanan değişiklikler rutinlerinin aksamasına neden olmaktadır. Arama kurtarma ekipleri\, özel gereksinimli bireyleri nasıl tespit edecekleri\, nasıl doğru iletişim kurabilecekleri\, nasıl psikososyal destek sağlayabilecekleri\, kurtarmayı kolaylaştırıcı hangi tür ekipmanlara ihtiyaç duyabileceklerine ilişkin bütün eğitimleri almak zorundadırlar. \nİşte biz bu konuda kendimizle ilgili ilk adımı attık ve bütün ekiplere\, ilgili kişilere\, ailelere\, engelli derneklerine çağrımızdır.Gelin bilgilerimizi birbirimize aktaralım….
URL:https://afetdayanismaagi.org/etkinlik/afetlerde-ozel-gereksinimli-bireylerle-dogru-iletisim-2/
LOCATION:İBB DR.ENVER ÖREN KÜLTÜR MERKEZİ\, Yenibosna merkez 29 Ekim Cad.No\,30 Bahçelievler\, istanbul\, Turkey
CATEGORIES:Seminars
ATTACH;FMTTYPE=image/jpeg:https://afetdayanismaagi.org/wp-content/uploads/2025/01/WhatsApp-Image-2025-01-21-at-14.01.01.jpeg
ORGANIZER;CN="Afet Dayan%C4%B1%C5%9Fma A%C4%9F%C4%B1":MAILTO:info@afetdayanismaagi.org
END:VEVENT
BEGIN:VEVENT
DTSTART;TZID=UTC:20250202T153000
DTEND;TZID=UTC:20250202T180000
DTSTAMP:20260425T034417
CREATED:20250125T090942Z
LAST-MODIFIED:20250125T090942Z
UID:21061-1738510200-1738519200@afetdayanismaagi.org
SUMMARY:AFETLERDE ÖZEL GEREKSİNİMLİ BİREYLERLE DOĞRU İLETİŞİM
DESCRIPTION:DAVETLİSİNİZ! \nToplumun her kesimini zorlayan afet dönemleri özellikle özel gereksinime ihtiyaç duyan engelli bireyleri ve onların ailelerini çok daha derinden etkilemektedir. Kendi ihtiyaçlarını gideremeyecek düzeyde bir engele sahip bireyler ve onlardan sorumlu ebeveynler için bu dönemler çok daha kırılgan olmaktadır. Özel gereksinimli bireylerin yaşadığı güçlüklerin başlıcaları; tahliye yollarına ulaşamama\, yaklaşan tehlikeleri anlayamama\, ihtiyaçlarını bildirmede güçlük yaşama\, kurtarma çağrılarına yanıt verememe olarak gösterilebilir. \nZihin yetersizliği olan ve otizmli bireyler \,yardım etmek isteyen yabancı kişiler ve kurtarma ekibini reddedebilir\, agresif davranışlar sergileyebilirler. İşitme yetersizliği olan bireyler\, uyarı mesajlarını ve alarmları duyamayabilir; bu nedenle kurtarma çağrılarına da yanıt veremeyebilirler. Fiziksel yetersizliği olan bireyler\, tahliyede güçlük yaşamakta ve âfet anında geride bırakılma olasılıkları daha fazladır. Görme yetersizliği olan bireylerin ise bulundukları ortamdaki yapısal hasarlar ve enkazlardan kaynaklanan değişiklikler rutinlerinin aksamasına neden olmaktadır. \n\nArama kurtarma ekipleri tam da bu aşamada çok önemlidir. Özel gereksinimli bireyleri nasıl tespit edeceklerine \, nasıl iletişim kurabileklerine\, nasıl psikososyal destek sunabileceklerine\, müdahaleyi ne şekilde kolaylaştırıcı ekipmanlara sahip olabileceklerine ilişkin eğitimleri almak zorundadırlar. Biz bunun ilk adımını attık..İlgili bütün herkesi eğitim seminerimize bekliyoruz.
URL:https://afetdayanismaagi.org/etkinlik/afetlerde-ozel-gereksinimli-bireylerle-dogru-iletisim/
LOCATION:İBB DR.ENVER ÖREN KÜLTÜR MERKEZİ\, Yenibosna merkez 29 Ekim Cad.No\,30 Bahçelievler\, istanbul\, Turkey
CATEGORIES:Seminars
ATTACH;FMTTYPE=image/jpeg:https://afetdayanismaagi.org/wp-content/uploads/2025/01/WhatsApp-Image-2025-01-21-at-14.01.01.jpeg
END:VEVENT
BEGIN:VEVENT
DTSTART;TZID=UTC:20250207T210000
DTEND;TZID=UTC:20250207T223000
DTSTAMP:20260425T034417
CREATED:20250204T171417Z
LAST-MODIFIED:20250204T171417Z
UID:21070-1738962000-1738967400@afetdayanismaagi.org
SUMMARY:DEPREM DEĞİL\, İNSAN ÖLDÜRÜR...
DESCRIPTION:6 Şubat 2023 Kahramanmaraş depremlerinin 2.yıldönümünde kaybettiklerimizi bir kez daha anacağız. Yaşadıklarımızı unutmadık\, unutmayacağız. Depremlerin aramızdan bir kişiyi daha eksiltmemesi için yönetimsel\, toplumsal ve bireysel ne yapılması gerekiyorsa bu konuyla ilgili görev ve sorumluluklarımızı hatırlatacak \,takipçisi olacağız.\nAslında depremin masum bir doğa olayı olduğunu\, bizi öldürmek gibi amacı olmadığını \, bizi öldürenin ihmaller\, alınmayan önlemler \, azaltılamayan riskler ve yönetimsel bir sorun olduğu gerçeğini bir kez daha anlatmaya çalışacağız.\nKonuğumuz 6 Subat depremlerinde çok büyük bir acıyı yaşamak durumunda kalan değerli sanatçımız Orhan Aydın.\nBirçok konuyla yüzleşeceğimiz söyleşimize duyarlı tüm dostlarımızı bekliyoruz.
URL:https://afetdayanismaagi.org/etkinlik/deprem-degil-insan-oldurur/
CATEGORIES:Seminars
ATTACH;FMTTYPE=image/jpeg:https://afetdayanismaagi.org/wp-content/uploads/2025/02/orhan-aydin.jpeg
ORGANIZER;CN="Afet Dayan%C4%B1%C5%9Fma A%C4%9F%C4%B1":MAILTO:info@afetdayanismaagi.org
END:VEVENT
END:VCALENDAR